BEGIN:VCALENDAR
VERSION:2.0
PRODID:-//Croatian Fraternal Union of America - ECPv6.15.17//NONSGML v1.0//EN
CALSCALE:GREGORIAN
METHOD:PUBLISH
X-WR-CALNAME:Croatian Fraternal Union of America
X-ORIGINAL-URL:https://cfu.org
X-WR-CALDESC:Events for Croatian Fraternal Union of America
REFRESH-INTERVAL;VALUE=DURATION:PT1H
X-Robots-Tag:noindex
X-PUBLISHED-TTL:PT1H
BEGIN:VTIMEZONE
TZID:America/New_York
BEGIN:DAYLIGHT
TZOFFSETFROM:-0500
TZOFFSETTO:-0400
TZNAME:EDT
DTSTART:20230312T070000
END:DAYLIGHT
BEGIN:STANDARD
TZOFFSETFROM:-0400
TZOFFSETTO:-0500
TZNAME:EST
DTSTART:20231105T060000
END:STANDARD
BEGIN:DAYLIGHT
TZOFFSETFROM:-0500
TZOFFSETTO:-0400
TZNAME:EDT
DTSTART:20240310T070000
END:DAYLIGHT
BEGIN:STANDARD
TZOFFSETFROM:-0400
TZOFFSETTO:-0500
TZNAME:EST
DTSTART:20241103T060000
END:STANDARD
BEGIN:DAYLIGHT
TZOFFSETFROM:-0500
TZOFFSETTO:-0400
TZNAME:EDT
DTSTART:20250309T070000
END:DAYLIGHT
BEGIN:STANDARD
TZOFFSETFROM:-0400
TZOFFSETTO:-0500
TZNAME:EST
DTSTART:20251102T060000
END:STANDARD
END:VTIMEZONE
BEGIN:VEVENT
DTSTART;VALUE=DATE:20240518
DTEND;VALUE=DATE:20240520
DTSTAMP:20260425T095141
CREATED:20240207T195908Z
LAST-MODIFIED:20240509T131947Z
UID:11824-1715990400-1716163199@cfu.org
SUMMARY:88th CFU National Bowling Tournament
DESCRIPTION:2024 National Bowling Tournament Form \nALL BOWLERS SAVE THE DATES \n  \nGreetings brothers and sisters\, \nA block of rooms has been secured for the 88th Annual National Tenpin Tournament for May 17th\, 18th and 19th at the Hampton Inn located at 22300 Commons Drive\, Oakwood VIllage Ohio. Room rate is $128 + taxes\, per night. The phone # is 440-945-6281. When securing your rooms please use promo code “ CFU Bowling Tournament “ The following link will take you to the hotel website. http://tinyurl.com/Hilton-Promo-Code. This will serve as the headquarters for the tournament. Directions to the bowling alley\, as well as the nearby casino\, will be available at the hotel front desk.  \nA meeting room at the hotel has been reserved for Friday\, May 17th\, to be used for fellowship. Although participants will be on their own for dinner\, there will be beer\, water\, wine and soft drinks provided in the meeting room. Potluck appetizers are more than welcome and greatly appreciated.   \nThat’s all for right now. Please keep watch in the “ Z “ for future updates. \nPlease do not hesitate to reach out with any questions or comments. \nFraternally yours\, \nMike Mitch \nPresident – Lodge 337 Euclid\, OH \n330-888-9187 (cell) \nmam2ly@roadrunner.com
URL:https://cfu.org/event/88th-cfu-national-bowling-tournament/
LOCATION:North Woods Lanes Bowling Center\, 10435 Valley view Rd.\, Macedonia\, OH\, 330-467-7925\, United States
CATEGORIES:CFU National Bowling Tournament
END:VEVENT
END:VCALENDAR