BEGIN:VCALENDAR
VERSION:2.0
PRODID:-//Croatian Fraternal Union of America - ECPv6.15.17//NONSGML v1.0//EN
CALSCALE:GREGORIAN
METHOD:PUBLISH
X-WR-CALNAME:Croatian Fraternal Union of America
X-ORIGINAL-URL:https://cfu.org
X-WR-CALDESC:Events for Croatian Fraternal Union of America
REFRESH-INTERVAL;VALUE=DURATION:PT1H
X-Robots-Tag:noindex
X-PUBLISHED-TTL:PT1H
BEGIN:VTIMEZONE
TZID:America/New_York
BEGIN:DAYLIGHT
TZOFFSETFROM:-0500
TZOFFSETTO:-0400
TZNAME:EDT
DTSTART:20240310T070000
END:DAYLIGHT
BEGIN:STANDARD
TZOFFSETFROM:-0400
TZOFFSETTO:-0500
TZNAME:EST
DTSTART:20241103T060000
END:STANDARD
BEGIN:DAYLIGHT
TZOFFSETFROM:-0500
TZOFFSETTO:-0400
TZNAME:EDT
DTSTART:20250309T070000
END:DAYLIGHT
BEGIN:STANDARD
TZOFFSETFROM:-0400
TZOFFSETTO:-0500
TZNAME:EST
DTSTART:20251102T060000
END:STANDARD
BEGIN:DAYLIGHT
TZOFFSETFROM:-0500
TZOFFSETTO:-0400
TZNAME:EDT
DTSTART:20260308T070000
END:DAYLIGHT
BEGIN:STANDARD
TZOFFSETFROM:-0400
TZOFFSETTO:-0500
TZNAME:EST
DTSTART:20261101T060000
END:STANDARD
END:VTIMEZONE
BEGIN:VEVENT
DTSTART;VALUE=DATE:20250519
DTEND;VALUE=DATE:20250521
DTSTAMP:20260422T102308
CREATED:20241030T151804Z
LAST-MODIFIED:20241030T165253Z
UID:13448-1747612800-1747785599@cfu.org
SUMMARY:89th CFU National Bowling Tournament
DESCRIPTION:Strike Up the Fun at the 89th Annual CFU National Bowling Tournament in Vegas! 🎳✨ \nGet ready to roll the dice and the bowling balls! We’re thrilled to announce that the CFU National Bowling Tournament is making its return to Las Vegas—and this year\, we’re taking it to new heights at the Gold Coast Hotel and Casino! \nIf you’ve joined us in Vegas before\, you know the drill: fun\, excitement\, and camaraderie. But if this is your first time\, buckle up for an unforgettable experience where the lanes meet the lights of the Strip! Whether you’re a seasoned bowler or just looking to cheer on friends and family\, there’s a spot for everyone to get in on the action. \nMake plans to join us\, bowl a few strikes\, and enjoy the thrill of Vegas with your CFU family! \nDiscounted room rates (single and double occupancy) have been obtained from the hotel as follows: \nFri & Sat\, May 16 & 17 \nDeluxe Room $98.00 \nSun thru Tues\, May 18-20 \nDeluxe Room $48.00\n(Above rates are subject to a mandatory resort fee and tax) \nFor online reservations please click URL link: CFU National Bowling Tournament  \nTo book via phone please call (888) 402-6278 and reference group code: CFUE25C \nPlease check back more more updates!
URL:https://cfu.org/event/89th-cfu-national-bowling-tournament/
LOCATION:Gold Coast Hotel and Casino\, 4000 W. Flamingo Rd\, Las Vegas\, NV\, 89103\, United States
CATEGORIES:CFU National Bowling Tournament
END:VEVENT
END:VCALENDAR